BEGIN:VCALENDAR
VERSION:2.0
PRODID:-//ZContent.net//ZapCalLib 1.0//EN
CALSCALE:GREGORIAN
METHOD:PUBLISH
BEGIN:VTIMEZONE
TZID:Europe/Berlin
BEGIN:DAYLIGHT
DTSTART:20260329T030000
DTEND:20261025T030000
TZOFFSETFROM:+0100
TZOFFSETTO:+0200
RRULE:FREQ=YEARLY;BYDAY=-1SU;BYMONTH=3
TZNAME:CEST
END:DAYLIGHT
BEGIN:STANDARD
DTSTART:20201025T020000
TZOFFSETFROM:+0200
TZOFFSETTO:+0100
RRULE:FREQ=YEARLY;BYDAY=-1SU;BYMONTH=10
TZNAME:CET
END:STANDARD
END:VTIMEZONE
BEGIN:VEVENT
SUMMARY:Gar nicht so einfach mit der Liebe
DTSTART;TZID=Europe/Berlin:20260516T180000
DTEND;TZID=Europe/Berlin:20260516T200000
DESCRIPTION:Ein Abend mit Märchen und Sagen aus aller Welt über Frauen un
 d\nnatürlich auch über Männern\, der Liebe und so manchem Hindernis\, d
 as\nes zu Überwinden gilt\, ehe zwei endlich zueinander finden können. M
 it\nanschließendem geselligen Beisammensein. \n\nInfo: wege-geschichten.d
 e
LOCATION:Nachbarschaftstreff WAPE\,\, Im Gefilde 84\, 81739 München\, (Bus
  198\, Klara-Ziegler-Bogen)
UID:2026-03-15-13-59-29@wortschatz-muenchen.de
DTSTAMP:20260315T125929
BEGIN:VALARM
ACTION:DISPLAY
DESCRIPTION:Gar nicht so einfach mit der Liebe
TRIGGER:-PT1H
REPEAT:1
DURATION:PT15M
END:VALARM
END:VEVENT
END:VCALENDAR
